BEGIN:VCALENDAR
VERSION:2.0
PRODID:-//hetra.org//NONSGML kigkonsult.se iCalcreator 2.30.10//
CALSCALE:GREGORIAN
METHOD:PUBLISH
UID:78a07586-7f6f-4365-81e3-aa0fb2a4a067
X-WR-CALDESC:
X-WR-RELCALID:354e909e949508752386fe323f89c81d
X-WR-TIMEZONE:America/Chicago
BEGIN:VTIMEZONE
TZID:America/Chicago
BEGIN:STANDARD
TZNAME:CST
DTSTART:20241103T020000
TZOFFSETFROM:-0500
TZOFFSETTO:-0600
RDATE:20251102T020000
END:STANDARD
BEGIN:DAYLIGHT
TZNAME:CDT
DTSTART:20240310T020000
TZOFFSETFROM:-0600
TZOFFSETTO:-0500
RDATE:20250309T020000
RDATE:20260308T020000
END:DAYLIGHT
END:VTIMEZONE
BEGIN:VEVENT
UID:92caa3c9-ec7c-46d6-9350-df10a203e660
DTSTAMP:20260424T182130Z
DESCRIPTION:
DTSTART;TZID=America/Chicago:20250106T050000
DTEND;TZID=America/Chicago:20250106T050001
LOCATION:10130 S. 222nd St\, Gretna\, AL 68028 US
SUMMARY:Start of Course A
END:VEVENT
END:VCALENDAR
