BEGIN:VCALENDAR
VERSION:2.0
PRODID:-//hetra.org//NONSGML kigkonsult.se iCalcreator 2.30.10//
CALSCALE:GREGORIAN
METHOD:PUBLISH
UID:4ceb6e54-08d6-4928-81d8-dbdd69fbb3be
X-WR-CALDESC:No HETRA sessions April 21st - April 27th.
X-WR-RELCALID:9c65a5f3cb0388b6f421d3839aaa8bb1
X-WR-TIMEZONE:America/Chicago
BEGIN:VTIMEZONE
TZID:America/Chicago
BEGIN:STANDARD
TZNAME:CST
DTSTART:20251102T020000
TZOFFSETFROM:-0500
TZOFFSETTO:-0600
RDATE:20261101T020000
END:STANDARD
BEGIN:DAYLIGHT
TZNAME:CDT
DTSTART:20260308T020000
TZOFFSETFROM:-0600
TZOFFSETTO:-0500
RDATE:20270314T020000
END:DAYLIGHT
END:VTIMEZONE
BEGIN:VEVENT
UID:80d4a59a-8cda-434b-86f8-73ae365476fc
DTSTAMP:20260423T114406Z
DESCRIPTION:No HETRA sessions April 21st - April 27th.
DTSTART;TZID=America/Chicago:20260421T050000
DTEND;TZID=America/Chicago:20260427T050001
LOCATION:10130 S. 222nd St.\, Gretna\, NE 68028 US
SUMMARY:Sessions Break
END:VEVENT
END:VCALENDAR
