BEGIN:VCALENDAR
VERSION:2.0
PRODID:-//hetra.org//NONSGML kigkonsult.se iCalcreator 2.30.10//
CALSCALE:GREGORIAN
METHOD:PUBLISH
UID:66bb0482-ae3c-435a-b18b-bc78c2f33e5f
X-WR-CALDESC:Are you a Veteran or First Responder? Do you enjoy coffee? Wel
 l\, then you should definitely visit the HETRA Campus for our next Veteran
 s & First Responders Coffee Hour! Come share stories\, memories\, current 
 Veteran & First Responder community needs\, and watch our horses get ready
  for the day!\n
X-WR-RELCALID:50a5bfae6b825ab2d0b35f8269a32e9a
X-WR-TIMEZONE:America/Chicago
BEGIN:VTIMEZONE
TZID:America/Chicago
BEGIN:STANDARD
TZNAME:CST
DTSTART:20221106T020000
TZOFFSETFROM:-0500
TZOFFSETTO:-0600
RDATE:20231105T020000
RDATE:20241103T020000
END:STANDARD
BEGIN:DAYLIGHT
TZNAME:CDT
DTSTART:20230312T020000
TZOFFSETFROM:-0600
TZOFFSETTO:-0500
RDATE:20240310T020000
RDATE:20250309T020000
END:DAYLIGHT
END:VTIMEZONE
BEGIN:VEVENT
UID:ae000085-517c-4c6a-ae63-69cff6cced6d
DTSTAMP:20260424T044608Z
DESCRIPTION:Are you a Veteran or First Responder? Do you enjoy coffee? Well
 \, then you should definitely visit the HETRA Campus for our next Veterans
  & First Responders Coffee Hour! Come share stories\, memories\, current V
 eteran & First Responder community needs\, and watch our horses get ready 
 for the day!\n
DTSTART;TZID=America/Chicago:20231020T090000
DTEND;TZID=America/Chicago:20231020T103000
LOCATION:10130 S. 222nd Street\, Gretna\, NE 68028 US
SUMMARY:Veterans & First Responders Coffee
END:VEVENT
END:VCALENDAR
