BEGIN:VCALENDAR
VERSION:2.0
PRODID:-//hetra.org//NONSGML kigkonsult.se iCalcreator 2.30.10//
CALSCALE:GREGORIAN
METHOD:PUBLISH
UID:6341f9c2-ea46-4651-bcda-8b3717af571a
X-WR-CALDESC:HETRA invites all First Responders\, spouses and children (age
 s 5+) to visit our campus for a special care retreat. Activities include a
  brief classroom portion\, witnessing Herd Dynamics\, grooming horses\, an
 d leading horses through obstacles. Space is limited to 14 participants an
 d one registration per participant. Register here: https://www.signupgeniu
 s.com/go/4090e45acad29ab9-first\n\nWhen -  October 10\n\nTime:  1:00 - 4:0
 0 pm\n\nFacilitator - Kelli Hatzenbuehler\, PLMHP\n\nWhere - HETRA\, 10130
  S. 222nd Street\, Gretna\, NE\n\nCost - Free
X-WR-RELCALID:ca75924f3b21300b2714e202cc2a6220
X-WR-TIMEZONE:America/Chicago
BEGIN:VTIMEZONE
TZID:America/Chicago
BEGIN:STANDARD
TZNAME:CST
DTSTART:20191103T020000
TZOFFSETFROM:-0500
TZOFFSETTO:-0600
RDATE:20201101T020000
RDATE:20211107T020000
END:STANDARD
BEGIN:DAYLIGHT
TZNAME:CDT
DTSTART:20200308T020000
TZOFFSETFROM:-0600
TZOFFSETTO:-0500
RDATE:20210314T020000
RDATE:20220313T020000
END:DAYLIGHT
END:VTIMEZONE
BEGIN:VEVENT
UID:8f91d34b-ea66-4a58-8316-e87309133832
DTSTAMP:20260423T130640Z
DESCRIPTION:HETRA invites all First Responders\, spouses and children (ages
  5+) to visit our campus for a special care retreat. Activities include a 
 brief classroom portion\, witnessing Herd Dynamics\, grooming horses\, and
  leading horses through obstacles. Space is limited to 14 participants and
  one registration per participant. Register here: https://www.signupgenius
 .com/go/4090e45acad29ab9-first\n\nWhen -  October 10\n\nTime:  1:00 - 4:00
  pm\n\nFacilitator - Kelli Hatzenbuehler\, PLMHP\n\nWhere - HETRA\, 10130 
 S. 222nd Street\, Gretna\, NE\n\nCost - Free
DTSTART;TZID=America/Chicago:20201010T130000
DTEND;TZID=America/Chicago:20201010T160000
LOCATION:10130 S. 222nd Street \, Gretna\, NE 68028 US
SUMMARY:First Responders Family Retreat
END:VEVENT
END:VCALENDAR
