BEGIN:VCALENDAR
VERSION:2.0
PRODID:-//hetra.org//NONSGML kigkonsult.se iCalcreator 2.30.10//
CALSCALE:GREGORIAN
METHOD:PUBLISH
UID:b9f6c892-1940-4b1f-92b3-749c39423250
X-WR-CALDESC:Take a tour of the HETRA Campus\, learn about our services\, a
 nd what the next steps would be to sign up!\n\nThis tour is only for parti
 cipant information.
X-WR-RELCALID:912dc6e5465ea5de527cb58df155cf9f
X-WR-TIMEZONE:America/Chicago
BEGIN:VTIMEZONE
TZID:America/Chicago
BEGIN:STANDARD
TZNAME:CST
DTSTART:20231105T020000
TZOFFSETFROM:-0500
TZOFFSETTO:-0600
RDATE:20241103T020000
RDATE:20251102T020000
END:STANDARD
BEGIN:DAYLIGHT
TZNAME:CDT
DTSTART:20240310T020000
TZOFFSETFROM:-0600
TZOFFSETTO:-0500
RDATE:20250309T020000
RDATE:20260308T020000
END:DAYLIGHT
END:VTIMEZONE
BEGIN:VEVENT
UID:f018c7a6-1d1d-4f86-8a70-030f303809b0
DTSTAMP:20260423T084148Z
DESCRIPTION:Take a tour of the HETRA Campus\, learn about our services\, an
 d what the next steps would be to sign up!\n\nThis tour is only for partic
 ipant information.
DTSTART;TZID=America/Chicago:20241104T180000
DTEND;TZID=America/Chicago:20241104T190000
LOCATION:10130 S. 222nd St\, Gretna\, NE 68028 US
SUMMARY:Prospective Participant Tour
END:VEVENT
END:VCALENDAR
