BEGIN:VCALENDAR
VERSION:2.0
PRODID:-//hetra.org//NONSGML kigkonsult.se iCalcreator 2.30.10//
CALSCALE:GREGORIAN
METHOD:PUBLISH
UID:31ba07c8-e528-4628-ae9d-56c5f0382eaf
X-WR-CALDESC:This unique experience is designed to engage the senses\, lear
 n different communication techniques\, and discover what we can learn from
  our equine partners that can assist us in everyday life. This hands on ac
 tivity will have you engaged in activities with the horses such as Herd Dy
 namics\, Leading\, and Grooming. HETRA offers a comfortable and supportive
  environment tailored to meet your needs.\n\nThis is FREE to Veterans\, Ac
 tive Duty Military\, First Responders\, Spouses\, significant others\, car
 egivers and children (5 years and older).
X-WR-RELCALID:4b4f1c7ced3886ef74dd600cffd5e52d
X-WR-TIMEZONE:America/Chicago
BEGIN:VTIMEZONE
TZID:America/Chicago
BEGIN:STANDARD
TZNAME:CST
DTSTART:20241103T020000
TZOFFSETFROM:-0500
TZOFFSETTO:-0600
RDATE:20251102T020000
END:STANDARD
BEGIN:DAYLIGHT
TZNAME:CDT
DTSTART:20240310T020000
TZOFFSETFROM:-0600
TZOFFSETTO:-0500
RDATE:20250309T020000
RDATE:20260308T020000
END:DAYLIGHT
END:VTIMEZONE
BEGIN:VEVENT
UID:e57714c9-4967-4e12-8d6d-3dfcdc13355a
DTSTAMP:20260426T002432Z
DESCRIPTION:This unique experience is designed to engage the senses\, learn
  different communication techniques\, and discover what we can learn from 
 our equine partners that can assist us in everyday life. This hands on act
 ivity will have you engaged in activities with the horses such as Herd Dyn
 amics\, Leading\, and Grooming. HETRA offers a comfortable and supportive 
 environment tailored to meet your needs.\n\nThis is FREE to Veterans\, Act
 ive Duty Military\, First Responders\, Spouses\, significant others\, care
 givers and children (5 years and older).
DTSTART;TZID=America/Chicago:20241115T130000
DTEND;TZID=America/Chicago:20241115T160000
LOCATION:10130 S. 222nd St\, Gretna\, NE 68028 US
SUMMARY:Equine Experience Event for Veterans & First Responders
END:VEVENT
END:VCALENDAR
