BEGIN:VCALENDAR
VERSION:2.0
PRODID:-//hetra.org//NONSGML kigkonsult.se iCalcreator 2.30.10//
CALSCALE:GREGORIAN
METHOD:PUBLISH
UID:c0315272-7903-4b1e-93fc-0dc7c8b5de16
X-WR-CALDESC:Take a tour of the HETRA Campus\, learn about our services\, a
 nd what the next steps would be to sign up!\n\nThis tour is only for parti
 cipant information.
X-WR-RELCALID:8ac89d6d950f249e0e6be76bc680ef5b
X-WR-TIMEZONE:America/Chicago
BEGIN:VTIMEZONE
TZID:America/Chicago
BEGIN:STANDARD
TZNAME:CST
DTSTART:20251102T020000
TZOFFSETFROM:-0500
TZOFFSETTO:-0600
RDATE:20261101T020000
END:STANDARD
BEGIN:DAYLIGHT
TZNAME:CDT
DTSTART:20260308T020000
TZOFFSETFROM:-0600
TZOFFSETTO:-0500
RDATE:20270314T020000
END:DAYLIGHT
END:VTIMEZONE
BEGIN:VEVENT
UID:97c45b61-14bc-42f9-b628-f7e7028bd112
DTSTAMP:20260424T103046Z
DESCRIPTION:Take a tour of the HETRA Campus\, learn about our services\, an
 d what the next steps would be to sign up!\n\nThis tour is only for partic
 ipant information.
DTSTART;TZID=America/Chicago:20260406T180000
DTEND;TZID=America/Chicago:20260406T190000
LOCATION:10130 S. 222nd St\, Gretna\, NE 68028 US
SUMMARY:Prospective Participant Tour - Registration Full
END:VEVENT
END:VCALENDAR
