BEGIN:VCALENDAR
VERSION:2.0
PRODID:-//hetra.org//NONSGML kigkonsult.se iCalcreator 2.30.10//
CALSCALE:GREGORIAN
METHOD:PUBLISH
UID:b2698025-7656-4478-9d1a-ff914c475c3c
X-WR-CALDESC:Meet our adorable miniature horses Blue\, Stormy\, Merry\, & L
 ala while learning about life skills such as communication\, health and we
 llness\, and teamwork. Your kids will return home thrilled and full of sto
 ries about the fantastic time they had!\n\nCamp is open to everyone! Cost 
 is $45 per person.\nAges 5-8: Saturday\, March 28th from 1:30pm-3:30pm\nAg
 es 5-12: Saturday\, April 11th from 1:30pm-3:30pm\nAt the HETRA Barn locat
 ed at 10130 S. 222nd St. Gretna\, NE 68028\n\nParticipants that require ad
 ditional assistance to fully engage in activities will need to have a care
 giver present during camp.\n\nRegistration closes at noon on the Friday pr
 ior to the event.
X-WR-RELCALID:fc6a02c3fe797b8c597980e24b463812
X-WR-TIMEZONE:America/Chicago
BEGIN:VTIMEZONE
TZID:America/Chicago
BEGIN:STANDARD
TZNAME:CST
DTSTART:20251102T020000
TZOFFSETFROM:-0500
TZOFFSETTO:-0600
RDATE:20261101T020000
END:STANDARD
BEGIN:DAYLIGHT
TZNAME:CDT
DTSTART:20260308T020000
TZOFFSETFROM:-0600
TZOFFSETTO:-0500
RDATE:20270314T020000
END:DAYLIGHT
END:VTIMEZONE
BEGIN:VEVENT
UID:a5a991c9-e79d-424f-bd19-94d3aaf93a58
DTSTAMP:20260424T102516Z
DESCRIPTION:Meet our adorable miniature horses Blue\, Stormy\, Merry\, & La
 la while learning about life skills such as communication\, health and wel
 lness\, and teamwork. Your kids will return home thrilled and full of stor
 ies about the fantastic time they had!\n\nCamp is open to everyone! Cost i
 s $45 per person.\nAges 5-8: Saturday\, March 28th from 1:30pm-3:30pm\nAge
 s 5-12: Saturday\, April 11th from 1:30pm-3:30pm\nAt the HETRA Barn locate
 d at 10130 S. 222nd St. Gretna\, NE 68028\n\nParticipants that require add
 itional assistance to fully engage in activities will need to have a careg
 iver present during camp.\n\nRegistration closes at noon on the Friday pri
 or to the event.
DTSTART;TZID=America/Chicago:20260411T133000
DTEND;TZID=America/Chicago:20260411T153000
LOCATION:10130 S. 222nd St\, Gretna\, NE 68028 US
SUMMARY:Miniature Horse Camp for Kids! - Registration Full
END:VEVENT
END:VCALENDAR
