BEGIN:VCALENDAR
VERSION:2.0
PRODID:-//hetra.org//NONSGML kigkonsult.se iCalcreator 2.30.10//
CALSCALE:GREGORIAN
METHOD:PUBLISH
UID:b69c09f3-9084-4ab1-a17e-389ae35ca33b
X-WR-CALDESC:Caregiving can come with its own set of challenges\, which is 
 why we want to offer you a space where you can rejuvenate and connect with
  others who understand what you’re going through. Combining horse and huma
 n interaction creates a truly unique experience designed to increase your 
 confidence and hope when it comes to caring for your loved one. Admission 
 is $20 a person to the event.\n\nWhat you will get out of the day:\n-Mindf
 ulness Practice\n-Connection Activities\n-Self-Care Techniques\n-Community
  Resources\n\nWho is a caregiver? The answer is simple - it could be you! 
 Whether you are caring for aging parents\, looking after your children at 
 home\, working as a teacher\, nurse\, doctor\, therapist\, first responder
 \, or caring for an ill spouse\, the list goes on and on.\n\nAdults only p
 lease.\nRegistration closes at noon on the Friday prior to the event.
X-WR-RELCALID:4846674f1e9e19bd45f7e231b61e20ea
X-WR-TIMEZONE:America/Chicago
BEGIN:VTIMEZONE
TZID:America/Chicago
BEGIN:STANDARD
TZNAME:CST
DTSTART:20251102T020000
TZOFFSETFROM:-0500
TZOFFSETTO:-0600
RDATE:20261101T020000
END:STANDARD
BEGIN:DAYLIGHT
TZNAME:CDT
DTSTART:20260308T020000
TZOFFSETFROM:-0600
TZOFFSETTO:-0500
RDATE:20270314T020000
END:DAYLIGHT
END:VTIMEZONE
BEGIN:VEVENT
UID:14617661-360a-47d6-9abb-9a0cdf159390
DTSTAMP:20260424T102516Z
DESCRIPTION:Caregiving can come with its own set of challenges\, which is w
 hy we want to offer you a space where you can rejuvenate and connect with 
 others who understand what you’re going through. Combining horse and human
  interaction creates a truly unique experience designed to increase your c
 onfidence and hope when it comes to caring for your loved one. Admission i
 s $20 a person to the event.\n\nWhat you will get out of the day:\n-Mindfu
 lness Practice\n-Connection Activities\n-Self-Care Techniques\n-Community 
 Resources\n\nWho is a caregiver? The answer is simple - it could be you! W
 hether you are caring for aging parents\, looking after your children at h
 ome\, working as a teacher\, nurse\, doctor\, therapist\, first responder\
 , or caring for an ill spouse\, the list goes on and on.\n\nAdults only pl
 ease.\nRegistration closes at noon on the Friday prior to the event.
DTSTART;TZID=America/Chicago:20260412T133000
DTEND;TZID=America/Chicago:20260412T153000
LOCATION:10130 S. 222nd St\, Gretna\, NE 68028 US
SUMMARY:Caregiver Connections - Registration Full
END:VEVENT
END:VCALENDAR
